BEGIN:VCALENDAR
VERSION:2.0
PRODID:EVENTFROG//EVENT//ICAL
BEGIN:VEVENT
UID:20260424T085022Z-7449775611210431055@eventfrog.at
DTSTAMP:20260424T085022Z
DTSTART:20261206T170000Z
DTEND:20261206T183000Z
SUMMARY:Yin & Stimme
DESCRIPTION:Yin Yoga mit Glenda Laila und Kinga kombiniert passive Asanas und Klänge zur Regeneration und emotionalem Gleichgewicht.\n\nhttps://eventfrog.at/de/p/sport-fitness/yoga/yin-stimme-7449775611210431055.html
LOCATION:yoga grenzenlos
GEO:47.654079;9.173242
URL:https://eventfrog.at/de/p/sport-fitness/yoga/yin-stimme-7449775611210431055.html
END:VEVENT
END:VCALENDAR