BEGIN:VCALENDAR
VERSION:2.0
PRODID:EVENTFROG//EVENT//ICAL
BEGIN:VEVENT
UID:20260424T105041Z-7449754753175705500@eventfrog.at
DTSTAMP:20260424T105041Z
DTSTART:20261020T180000Z
SUMMARY:Dave Karo - "Wahnvorstellig"
DESCRIPTION:Vo de Technik-Regie direkt uf d'Bühne - hätmer scho so öppis gseh?!? \nDe Dave Karo wagt sich a sis erschte aabig- und backstage-füllende Solo-Programm.\n\nhttps://eventfrog.at/de/p/theater-buehne/comedy-kabarett/dave-karo-wahnvorstellig-7449754753175705500.html
LOCATION:Millers
GEO:47.351585;8.561410
URL:https://eventfrog.at/de/p/theater-buehne/comedy-kabarett/dave-karo-wahnvorstellig-7449754753175705500.html
END:VEVENT
END:VCALENDAR