BEGIN:VCALENDAR
VERSION:2.0
PRODID:EVENTFROG//EVENT//ICAL
BEGIN:VEVENT
UID:20260419T170556Z-7449743775755204542@eventfrog.at
DTSTAMP:20260419T170556Z
DTSTART:20260426T150000Z
DTEND:20260426T163000Z
SUMMARY:Jazz New Orleans - New Orleans Hot Shots
DESCRIPTION:Plongez dans l’esprit du jazz de la Nouvelle-Orléans avec les musiciens du New Orleans Hot Shots.\n\nhttps://eventfrog.at/fr/p/concerts/jazz-blues/jazz-new-orleans-new-orleans-hot-shots-7449743775755204542.html
LOCATION:Casino Du Brassus
GEO:46.581811;6.210554
URL:https://eventfrog.at/fr/p/concerts/jazz-blues/jazz-new-orleans-new-orleans-hot-shots-7449743775755204542.html
END:VEVENT
END:VCALENDAR