BEGIN:VCALENDAR
VERSION:2.0
PRODID:EVENTFROG//EVENT//ICAL
BEGIN:VEVENT
UID:20260424T092342Z-7449743237852471389@eventfrog.at
DTSTAMP:20260424T092342Z
DTSTART:20260618T113000Z
DTEND:20260618T160000Z
SUMMARY:Café Rosengarten
DESCRIPTION:Café Rosengarten geöffnet ab 12. Mai bis 24. September jeweils Dienstag und Donnerstag ab 13:30 bis 18:00 bei trockener Witterung.\n\nhttps://eventfrog.at/de/p/essen-trinken/cafe-rosengarten-7449743237852471389.html
LOCATION:Café Rosengarten
GEO:47.289970;7.950597
URL:https://eventfrog.at/de/p/essen-trinken/cafe-rosengarten-7449743237852471389.html
END:VEVENT
END:VCALENDAR