BEGIN:VCALENDAR
VERSION:2.0
PRODID:EVENTFROG//EVENT//ICAL
BEGIN:VEVENT
UID:20260419T141947Z-7449723747483826292@eventfrog.at
DTSTAMP:20260419T141947Z
DTSTART:20260425T080000Z
DTEND:20260425T160000Z
SUMMARY:28. Olivenöl-Abholtage in Wilstedt – Ausflug Bremen/Hamburg
DESCRIPTION:In Wilstedt treffen sich Olivier-Familien aus Südeuropa zu den Olivenöl-Abholtagen mit Ölverkostung und Markt in familiärer Atmosphäre. Größtes Olivenölfest Deutschlands. Über 70 weitere Marktstände.\n\nhttps://eventfrog.at/de/p/freizeit-ausfluege/sonstige-veranstaltungen/28-olivenoel-abholtage-in-wilstedt-ausflug-bremen-hamburg-7449723747483826292.html
LOCATION:Olivenöl-Abholtage der arteFakt Handelsagentur für Erzeuger-Verbraucher-Ideen eG
GEO:53.195771;9.097316
URL:https://eventfrog.at/de/p/freizeit-ausfluege/sonstige-veranstaltungen/28-olivenoel-abholtage-in-wilstedt-ausflug-bremen-hamburg-7449723747483826292.html
END:VEVENT
END:VCALENDAR