BEGIN:VCALENDAR
VERSION:2.0
PRODID:EVENTFROG//EVENT//ICAL
BEGIN:VEVENT
UID:20260419T173511Z-7449712833896410721@eventfrog.at
DTSTAMP:20260419T173511Z
DTSTART:20260501T100000Z
DTEND:20260501T123000Z
SUMMARY:"unterm Hafen"
DESCRIPTION:Auf einer rund 2,5-stündigen Tour entlang der Elbe tauchen wir in die Hamburger Unterwelt ein: vom historischen Sieleinstieg über Relikte des Zweiten Weltkriegs bis hin zum Alten Elbtunnel.\n\n\n\nhttps://eventfrog.at/de/p/fuehrungen-vortraege/stadtfuehrung/unterm-hafen-7449712833896410721.html
LOCATION:U 3 am Baumwall | Ausgang westliche Hafencity | (Elbphilharmonie)
GEO:53.544470;9.981820
URL:https://eventfrog.at/de/p/fuehrungen-vortraege/stadtfuehrung/unterm-hafen-7449712833896410721.html
END:VEVENT
END:VCALENDAR