BEGIN:VCALENDAR
VERSION:2.0
PRODID:EVENTFROG//EVENT//ICAL
BEGIN:VEVENT
UID:20260424T072437Z-7449642771600693673@eventfrog.at
DTSTAMP:20260424T072437Z
DTSTART:20260516T093000Z
DTEND:20260516T113000Z
SUMMARY:Orgelmatinee in der Jesuitenkirche
DESCRIPTION:John Stanley (1712-1786): Overture „The Power of Music"; Voluntary in D op. 6/6 Henry Purcell (1659-1695): Voluntary in G George Frederick...\n\nhttps://eventfrog.at/de/p/klassik-opern/klassik/orgelmatinee-in-der-jesuitenkirche-7449642771600693673.html
LOCATION:Jesuitenkirche
GEO:47.207863;7.537954
URL:https://eventfrog.at/de/p/klassik-opern/klassik/orgelmatinee-in-der-jesuitenkirche-7449642771600693673.html
END:VEVENT
END:VCALENDAR