BEGIN:VCALENDAR
VERSION:2.0
PRODID:EVENTFROG//EVENT//ICAL
BEGIN:VEVENT
UID:20260423T034455Z-7449577842801684006@eventfrog.at
DTSTAMP:20260423T034455Z
DTSTART:20260426T124000Z
SUMMARY:Am Wasser entlang
DESCRIPTION:Selbst ein winziger Wassertropfen kann Grosses erleben!\n\nhttps://eventfrog.at/de/p/freizeit-ausfluege/am-wasser-entlang-7449577842801684006.html
LOCATION:Kinok – Cinema in der Lokremise
GEO:47.421287;9.366104
URL:https://eventfrog.at/de/p/freizeit-ausfluege/am-wasser-entlang-7449577842801684006.html
END:VEVENT
END:VCALENDAR