BEGIN:VCALENDAR
VERSION:2.0
PRODID:EVENTFROG//EVENT//ICAL
BEGIN:VEVENT
UID:20260425T183754Z-7449573641124086224@eventfrog.at
DTSTAMP:20260425T183754Z
DTSTART:20260426T090000Z
DTEND:20260426T160000Z
SUMMARY:Fabry Antik- und Trödelmarkt im Herzen Hildens
DESCRIPTION:Der Fabry Antik- und Trödelmarkt bietet am 26.4 von 11-18 Uhr seltene Antiquitäten und Familienaktionen in Hildens Fussgängerzone.\n\nhttps://eventfrog.at/de/p/maerkte/antikmarkt/fabry-antik-und-troedelmarkt-im-herzen-hildens-7449573641124086224.html
LOCATION:Fußgängerzone
GEO:51.169011;6.935794
URL:https://eventfrog.at/de/p/maerkte/antikmarkt/fabry-antik-und-troedelmarkt-im-herzen-hildens-7449573641124086224.html
END:VEVENT
END:VCALENDAR