BEGIN:VCALENDAR
VERSION:2.0
PRODID:EVENTFROG//EVENT//ICAL
BEGIN:VEVENT
UID:20260421T170257Z-7449508806017459569@eventfrog.at
DTSTAMP:20260421T170257Z
DTSTART:20260507T173000Z
SUMMARY:Improvisationstheater: Match mitRestrisiko gegen Franz Fehlt
DESCRIPTION:«Franz Fehlt?!» und «Restrisiko» liefern sich ein unterhaltsames Improtheaterduell, das das Publikum entscheidet.\n\nhttps://eventfrog.at/de/p/theater-buehne/theater/improvisationstheater-match-mitrestrisiko-gegen-franz-fehlt-7449508806017459569.html
LOCATION:Reduit Mainz-Kastel
GEO:50.019281;8.280637
URL:https://eventfrog.at/de/p/theater-buehne/theater/improvisationstheater-match-mitrestrisiko-gegen-franz-fehlt-7449508806017459569.html
END:VEVENT
END:VCALENDAR