BEGIN:VCALENDAR
VERSION:2.0
PRODID:EVENTFROG//EVENT//ICAL
BEGIN:VEVENT
UID:20260424T102321Z-7449480203384961001@eventfrog.at
DTSTAMP:20260424T102321Z
DTSTART:20261031T191500Z
DTEND:20261031T210000Z
SUMMARY:BARBARA HUTZENLAUB
DESCRIPTION:SPRECHSTUNDE \nDas Gesundheitswesen kränkelt. Ich kann helfen!\n\nhttps://eventfrog.at/de/p/theater-buehne/comedy-kabarett/barbara-hutzenlaub-7449480203384961001.html
LOCATION:Aula Schulanlage Unterboden
GEO:47.488470;8.290582
URL:https://eventfrog.at/de/p/theater-buehne/comedy-kabarett/barbara-hutzenlaub-7449480203384961001.html
END:VEVENT
END:VCALENDAR