BEGIN:VCALENDAR
VERSION:2.0
PRODID:EVENTFROG//EVENT//ICAL
BEGIN:VEVENT
UID:20260421T203534Z-7449472827521021262@eventfrog.at
DTSTAMP:20260421T203534Z
DTSTART:20260530T120000Z
DTEND:20260530T140000Z
SUMMARY:Die Wortschatzkiste - Der Poetry Slam für Kinder
DESCRIPTION:Deutschlandweit bekannte Slammer treten auf, Kinder bewerten die Texte, moderiert von Lars Ruppel.\n\nhttps://eventfrog.at/de/p/kinderveranstaltungen/familienveranstaltungen/die-wortschatzkiste-der-poetry-slam-fuer-kinder-7449472827521021262.html
LOCATION:Netanya-Saal
GEO:50.586841;8.676465
URL:https://eventfrog.at/de/p/kinderveranstaltungen/familienveranstaltungen/die-wortschatzkiste-der-poetry-slam-fuer-kinder-7449472827521021262.html
END:VEVENT
END:VCALENDAR