BEGIN:VCALENDAR
VERSION:2.0
PRODID:EVENTFROG//EVENT//ICAL
BEGIN:VEVENT
UID:20260424T122917Z-7449457663455289770@eventfrog.at
DTSTAMP:20260424T122917Z
DTSTART:20260427T170000Z
SUMMARY:Tore des Lebens- Ein Blick hinter Kulissen des Profifußballs
DESCRIPTION:Was steckt wirklich hinter dem Profifußball? Lars-Wilhelm Baumgarten liest aus „Tore des Lebens“ – mit Einblicken, die man sonst nicht hört. Special Guest: Mathias Hain, ehemaliger Bundesligaspieler.\n\nhttps://eventfrog.at/de/p/theater-buehne/lesung/tore-des-lebens-ein-blick-hinter-kulissen-des-profifussballs-7449457663455289770.html
LOCATION:Bündheimer Schloß, Bad Harzburg
GEO:51.889280;10.547370
URL:https://eventfrog.at/de/p/theater-buehne/lesung/tore-des-lebens-ein-blick-hinter-kulissen-des-profifussballs-7449457663455289770.html
END:VEVENT
END:VCALENDAR