BEGIN:VCALENDAR
VERSION:2.0
PRODID:EVENTFROG//EVENT//ICAL
BEGIN:VEVENT
UID:20260421T195954Z-7449452046250422325@eventfrog.at
DTSTAMP:20260421T195954Z
DTSTART:20260716T173000Z
SUMMARY:Zusatztermin: SILLY "elektroAkustik – Open Air Tour"
DESCRIPTION:Aufgrund der großen Nachfrage wird SILLY im Rahmen der "elektroAkustik – Open Air Tour" am 16. Juli in Dresden (Konzertplatz Weißer Hirsch) gastieren.  \n\nhttps://eventfrog.at/de/p/konzerte/pop-rock/zusatztermin-silly-elektroakustik-open-air-tour-7449452046250422325.html
LOCATION:Konzertplatz Weißer Hirsch
GEO:51.064266;13.821353
URL:https://eventfrog.at/de/p/konzerte/pop-rock/zusatztermin-silly-elektroakustik-open-air-tour-7449452046250422325.html
END:VEVENT
END:VCALENDAR