BEGIN:VCALENDAR
VERSION:2.0
PRODID:EVENTFROG//EVENT//ICAL
BEGIN:VEVENT
UID:20260424T072501Z-7449448058390063265@eventfrog.at
DTSTAMP:20260424T072501Z
DTSTART:20260613T070000Z
DTEND:20260614T190000Z
SUMMARY:Schweizer Meisterschaften Kunstturnen Junioren 2026
DESCRIPTION:Am 13. und 14. Juni trifft sich in der Eishalle Frauenfeld die Schweizer Nachwuchselite Kunstturnen Junioren (P1 - P6), um in Einzel- und Teamwettkämpfen an sechs Geräten um Edelmetall zu turnen.\n\nhttps://eventfrog.at/de/p/sport-fitness/turnen/schweizer-meisterschaften-kunstturnen-junioren-2026-7449448058390063265.html
LOCATION:SMJ 2026 - Kunsteisbahn Frauenfeld
GEO:47.563658;8.886549
URL:https://eventfrog.at/de/p/sport-fitness/turnen/schweizer-meisterschaften-kunstturnen-junioren-2026-7449448058390063265.html
END:VEVENT
END:VCALENDAR