BEGIN:VCALENDAR
VERSION:2.0
PRODID:EVENTFROG//EVENT//ICAL
BEGIN:VEVENT
UID:20260424T105313Z-7449429828766302623@eventfrog.at
DTSTAMP:20260424T105313Z
DTSTART:20260526T173000Z
DTEND:20260526T193000Z
SUMMARY:Kon-Tiki Comedy -  May 26th
DESCRIPTION:Kon-Tiki Comedy! Zurich's longest standing weekly Comedy Night : English Standup at Kon-Tiki Bar since 2018! Come love & laugh with us!\n\nhttps://eventfrog.at/de/p/theater-buehne/comedy-kabarett/kon-tiki-comedy-may-26th-7449429828766302623.html
LOCATION:KON-TIKI
GEO:47.373852;8.543810
URL:https://eventfrog.at/de/p/theater-buehne/comedy-kabarett/kon-tiki-comedy-may-26th-7449429828766302623.html
END:VEVENT
END:VCALENDAR