BEGIN:VCALENDAR
VERSION:2.0
PRODID:EVENTFROG//EVENT//ICAL
BEGIN:VEVENT
UID:20260426T010643Z-7449409498257562265@eventfrog.at
DTSTAMP:20260426T010643Z
DTSTART:20260502T080000Z
DTEND:20260502T140000Z
SUMMARY:BBQ Frühlingstreff
DESCRIPTION:Am 2. Mai 2026 zeigt maennerkueche.com in Ettlingen neue Gasgrills, Aussenküchen und Zubehör beim BBQ-Frühlingstreff.\n\nhttps://eventfrog.at/de/p/diverses/bbq-fruehlingstreff-7449409498257562265.html
LOCATION:maennerkueche.com
GEO:48.924868;8.373598
URL:https://eventfrog.at/de/p/diverses/bbq-fruehlingstreff-7449409498257562265.html
END:VEVENT
END:VCALENDAR