BEGIN:VCALENDAR
VERSION:2.0
PRODID:EVENTFROG//EVENT//ICAL
BEGIN:VEVENT
UID:20260424T123040Z-7449396264783902631@eventfrog.at
DTSTAMP:20260424T123040Z
DTSTART:20260521T173000Z
DTEND:20260521T200000Z
SUMMARY:Matthias Hübener - Das Leuchten der Mondfische
DESCRIPTION:Meeresbiologe Clément notlandet nach Sturm auf Marquesas und erfährt lebensverändernde Ereignisse voller Liebe und Verrat.\n\nhttps://eventfrog.at/de/p/theater-buehne/lesung/matthias-huebener-das-leuchten-der-mondfische-7449396264783902631.html
LOCATION:Bücherstube Fuhlsbüttel
GEO:53.627143;10.024733
URL:https://eventfrog.at/de/p/theater-buehne/lesung/matthias-huebener-das-leuchten-der-mondfische-7449396264783902631.html
END:VEVENT
END:VCALENDAR