BEGIN:VCALENDAR
VERSION:2.0
PRODID:EVENTFROG//EVENT//ICAL
BEGIN:VEVENT
UID:20260424T075854Z-7449383196171472827@eventfrog.at
DTSTAMP:20260424T075854Z
DTSTART:20260522T170000Z
DTEND:20260522T203000Z
SUMMARY:BBQ & Beats
DESCRIPTION:Start your weekend right with BBQ & Beats at The Flave of Zürich! DJ music, all-you-can-eat barbecue, and chill vibes every Friday evening. Reservations recommended.\n\nhttps://eventfrog.at/de/p/essen-trinken/bbq-beats-7449383196171472827.html
LOCATION:The Flave of Zürich
GEO:47.389126;8.516751
URL:https://eventfrog.at/de/p/essen-trinken/bbq-beats-7449383196171472827.html
END:VEVENT
END:VCALENDAR