BEGIN:VCALENDAR
VERSION:2.0
PRODID:EVENTFROG//EVENT//ICAL
BEGIN:VEVENT
UID:20260420T161626Z-7449378226869144219@eventfrog.at
DTSTAMP:20260420T161626Z
DTSTART:20260425T080000Z
DTEND:20260425T100000Z
SUMMARY:Spaziergang: Sichere Neumannstraße
DESCRIPTION:Wie kann die Neumannstraße sicherer für Radfahrende werden? Darüber möchten Louis Krüger (Wahlkreisabgeordneter für Pankow-Süd/Heinersdorf und schulpolitischer Sprecher der Grünen Abgeordnetenhausfrak\n\nhttps://eventfrog.at/de/p/fuehrungen-vortraege/fuehrung/spaziergang-sichere-neumannstrasse-7449378226869144219.html
LOCATION:Treffpunkt Kreuzung Neumannstraße/Binzstraße
GEO:52.563407;13.421110
URL:https://eventfrog.at/de/p/fuehrungen-vortraege/fuehrung/spaziergang-sichere-neumannstrasse-7449378226869144219.html
END:VEVENT
END:VCALENDAR