BEGIN:VCALENDAR
VERSION:2.0
PRODID:EVENTFROG//EVENT//ICAL
BEGIN:VEVENT
UID:20260421T130350Z-7449164591836230107@eventfrog.at
DTSTAMP:20260421T130350Z
DTSTART:20260716T170000Z
DTEND:20260716T181500Z
SUMMARY:Max  & Moritz aka Thelma & Louise
DESCRIPTION:TheaterLIPSIA Leipzig präsentiert »Max & Moritz aka Thelma & Louise« im Feinkost-Sommertheater: Eine Geschichte über Selbstbestimmung, Freundschaft und Abenteuer mit Desperados & viel schwarzem Humor!\n\nhttps://eventfrog.at/de/p/theater-buehne/theater/max-moritz-aka-thelma-louise-7449164591836230107.html
LOCATION:Hof der Feinkost, Karl-Liebknecht-Str. 36, 04107 Leipzig
GEO:51.326446;12.372892
URL:https://eventfrog.at/de/p/theater-buehne/theater/max-moritz-aka-thelma-louise-7449164591836230107.html
END:VEVENT
END:VCALENDAR