BEGIN:VCALENDAR
VERSION:2.0
PRODID:EVENTFROG//EVENT//ICAL
BEGIN:VEVENT
UID:20260421T130755Z-7449158759706827274@eventfrog.at
DTSTAMP:20260421T130755Z
DTSTART:20260707T170000Z
DTEND:20260707T181500Z
SUMMARY:Columbo: Bei Anruf – Mord!
DESCRIPTION:Freilichttheater vom Feinsten! Columbo trifft Hitchcock: Johnny Trash plant, seine Managerin und seine Frau loszuwerden, doch ein gewisser Inspektor steht ihm im Weg. \n\nhttps://eventfrog.at/de/p/theater-buehne/theater/columbo-bei-anruf-mord-7449158759706827274.html
LOCATION:Hof der Feinkost, Karl-Liebknecht-Str. 36, 04107 Leipzig
GEO:51.326446;12.372892
URL:https://eventfrog.at/de/p/theater-buehne/theater/columbo-bei-anruf-mord-7449158759706827274.html
END:VEVENT
END:VCALENDAR