BEGIN:VCALENDAR
VERSION:2.0
PRODID:EVENTFROG//EVENT//ICAL
BEGIN:VEVENT
UID:20260422T222805Z-7449102361555914333@eventfrog.at
DTSTAMP:20260422T222805Z
DTSTART:20260425T090000Z
DTEND:20260425T110000Z
SUMMARY:Mehr als Detox – die Intelligenz deines Körpers verstehen
DESCRIPTION:Detox reicht nicht.\nWarum viele trotz „gesunder Ernährung“ keine Energie haben – und was Ihr Körper wirklich braucht, um wieder in Balance zu kommen\n\nhttps://eventfrog.at/de/p/gesundheit-spiritualitaet/gesundheit-wohlbefinden/mehr-als-detox-die-intelligenz-deines-koerpers-verstehen-7449102361555914333.html
LOCATION:TherapieHaus Plettenberg
GEO:51.210071;7.873281
URL:https://eventfrog.at/de/p/gesundheit-spiritualitaet/gesundheit-wohlbefinden/mehr-als-detox-die-intelligenz-deines-koerpers-verstehen-7449102361555914333.html
END:VEVENT
END:VCALENDAR