BEGIN:VCALENDAR
VERSION:2.0
PRODID:EVENTFROG//EVENT//ICAL
BEGIN:VEVENT
UID:20260419T145703Z-7449090780654778891@eventfrog.at
DTSTAMP:20260419T145703Z
DTSTART:20260510T143000Z
SUMMARY:Kino für die Ohren Open-Air
DESCRIPTION:Kino für die Ohren - Musik aus bekannten Filmen live\n\nPräsentiert von der Bläsersymphonie der Abtei Hamborn unter der Leitung von Jan-Philipp Arendt.\n\n\nhttps://eventfrog.at/de/p/konzerte/weitere-musikrichtungen/kino-fuer-die-ohren-open-air-7449090780654778891.html
LOCATION:Gebläsehallenvorplatz  Landschaftspark Duisburg Nord
GEO:51.480110;6.781570
URL:https://eventfrog.at/de/p/konzerte/weitere-musikrichtungen/kino-fuer-die-ohren-open-air-7449090780654778891.html
END:VEVENT
END:VCALENDAR