BEGIN:VCALENDAR
VERSION:2.0
PRODID:EVENTFROG//EVENT//ICAL
BEGIN:VEVENT
UID:20260425T183832Z-7449070694653017624@eventfrog.at
DTSTAMP:20260425T183832Z
DTSTART:20260621T150000Z
SUMMARY:STOK ET LE CIRQUE OUBLIÉ
DESCRIPTION:STOK ET LE CIRQUE OUBLIÉ est une aventure musicale et théâtrale qui plongera le public dans l'atmosphère si particulière de la piste aux étoiles. \n\nhttps://eventfrog.at/fr/p/comedies-musicales-spectacles/comedie-musicale/stok-et-le-cirque-oublie-7449070694653017624.html
LOCATION:Salle communale
GEO:46.600575;6.681373
URL:https://eventfrog.at/fr/p/comedies-musicales-spectacles/comedie-musicale/stok-et-le-cirque-oublie-7449070694653017624.html
END:VEVENT
END:VCALENDAR