BEGIN:VCALENDAR
VERSION:2.0
PRODID:EVENTFROG//EVENT//ICAL
BEGIN:VEVENT
UID:20260424T205355Z-7449005445442730084@eventfrog.at
DTSTAMP:20260424T205355Z
DTSTART:20260508T170000Z
DTEND:20260508T193000Z
SUMMARY:Gin-Tasting
DESCRIPTION:Entdecken Sie den Caspar David Friedrich Gin und weitere Sorten in einer entspannten Degustation voller Geschmackserlebnisse.\n\nhttps://eventfrog.at/de/p/essen-trinken/gin-tasting-7449005445442730084.html
LOCATION:Süd-West-Passage
GEO:54.103753;13.039115
URL:https://eventfrog.at/de/p/essen-trinken/gin-tasting-7449005445442730084.html
END:VEVENT
END:VCALENDAR