BEGIN:VCALENDAR
VERSION:2.0
PRODID:EVENTFROG//EVENT//ICAL
BEGIN:VEVENT
UID:20260425T151813Z-7448963243744229615@eventfrog.at
DTSTAMP:20260425T151813Z
DTSTART:20260426T080000Z
DTEND:20260426T140000Z
SUMMARY:1. Hof- und Garagentrödel in Kreuzmönchdorf
DESCRIPTION:Nur Anwohner aus Kreuzmönchdorf verkaufen an markierten Ständen beim Trödeltag im Gebiet ohne gewerbliche Anbieter.\n\nhttps://eventfrog.at/de/p/maerkte/flohmarkt/1-hof-und-garagentroedel-in-kreuzmoenchdorf-7448963243744229615.html
LOCATION:Kreuzmönchdorf
GEO:51.315030;6.183575
URL:https://eventfrog.at/de/p/maerkte/flohmarkt/1-hof-und-garagentroedel-in-kreuzmoenchdorf-7448963243744229615.html
END:VEVENT
END:VCALENDAR