BEGIN:VCALENDAR
VERSION:2.0
PRODID:EVENTFROG//EVENT//ICAL
BEGIN:VEVENT
UID:20260425T223048Z-7448801881529308652@eventfrog.at
DTSTAMP:20260425T223048Z
DTSTART:20260509T163000Z
SUMMARY:„Kleine Große Musik.“ Kammermusik mit dem Tübinger Saxophon
DESCRIPTION:Große Werke im kleinen Format und kleine Musik mit großer Wirkung: Unter dem Motto „Kleine Große Musik“ erklingen mit nur 14 Saxophonisten Klassiker von Bach, Beethoven, Dvořák und Bizet.\n\nhttps://eventfrog.at/de/p/klassik-opern/klassik/kleine-grosse-musik-kammermusik-mit-dem-tuebinger-saxophon-7448801881529308652.html
LOCATION:Tübinger Musikschule
GEO:48.530684;9.065221
URL:https://eventfrog.at/de/p/klassik-opern/klassik/kleine-grosse-musik-kammermusik-mit-dem-tuebinger-saxophon-7448801881529308652.html
END:VEVENT
END:VCALENDAR