BEGIN:VCALENDAR
VERSION:2.0
PRODID:EVENTFROG//EVENT//ICAL
BEGIN:VEVENT
UID:20260424T035058Z-7448746609985245336@eventfrog.at
DTSTAMP:20260424T035058Z
DTSTART:20260815T100000Z
SUMMARY:Mallorca Schlager Festival
DESCRIPTION:Loona Nancy Frank Julian Benz Olaf Henning\n\nhttps://eventfrog.at/de/p/festivals/schlager-volksmusik/mallorca-schlager-festival-7448746609985245336.html
LOCATION:Gewerbegebiet
GEO:52.361599;7.706636
URL:https://eventfrog.at/de/p/festivals/schlager-volksmusik/mallorca-schlager-festival-7448746609985245336.html
END:VEVENT
END:VCALENDAR