BEGIN:VCALENDAR
VERSION:2.0
PRODID:EVENTFROG//EVENT//ICAL
BEGIN:VEVENT
UID:20260419T174347Z-7448654521591444165@eventfrog.at
DTSTAMP:20260419T174347Z
DTSTART:20260802T073000Z
SUMMARY:Yoga inmitten Alpakas
DESCRIPTION:Entspanne beim Outdoor Yoga auf der Weide inmitten Alpakas\n\n\nhttps://eventfrog.at/de/p/sport-fitness/yoga/yoga-inmitten-alpakas-7448654521591444165.html
LOCATION:Gnöd 5 Alpaka Hof
GEO:47.345556;7.833477
URL:https://eventfrog.at/de/p/sport-fitness/yoga/yoga-inmitten-alpakas-7448654521591444165.html
END:VEVENT
END:VCALENDAR