BEGIN:VCALENDAR
VERSION:2.0
PRODID:EVENTFROG//EVENT//ICAL
BEGIN:VEVENT
UID:20260424T090138Z-7448489216298763546@eventfrog.at
DTSTAMP:20260424T090138Z
DTSTART:20260505T173000Z
SUMMARY:Leoni Leoni (CH) & Le diable dégoûtant (FR)
DESCRIPTION:Leoni Leoni (CH) & Le diable dégoûtant (FR)\n\nhttps://eventfrog.at/de/p/konzerte/leoni-leoni-ch-le-diable-degoutant-fr-7448489216298763546.html
LOCATION:KAFF Kulturlokal
GEO:47.556502;8.895439
URL:https://eventfrog.at/de/p/konzerte/leoni-leoni-ch-le-diable-degoutant-fr-7448489216298763546.html
END:VEVENT
END:VCALENDAR