BEGIN:VCALENDAR
VERSION:2.0
PRODID:EVENTFROG//EVENT//ICAL
BEGIN:VEVENT
UID:20260424T015508Z-7448437900625095083@eventfrog.at
DTSTAMP:20260424T015508Z
DTSTART:20260509T120000Z
DTEND:20260509T150000Z
SUMMARY:Kleidertausch in Brühl
DESCRIPTION:Das Begegnungszentrum margaretaS und Repair-Café Brühl laden zum Kleidertausch mit bis zu 10 Teilen und Kaffee ein.\n\nhttps://eventfrog.at/de/p/maerkte/second-hand/kleidertausch-in-bruehl-7448437900625095083.html
LOCATION:Begegnungszentrum margaretaS
GEO:50.829287;6.903336
URL:https://eventfrog.at/de/p/maerkte/second-hand/kleidertausch-in-bruehl-7448437900625095083.html
END:VEVENT
END:VCALENDAR