BEGIN:VCALENDAR
VERSION:2.0
PRODID:EVENTFROG//EVENT//ICAL
BEGIN:VEVENT
UID:20260421T224851Z-7448415036551232049@eventfrog.at
DTSTAMP:20260421T224851Z
DTSTART:20260424T173000Z
SUMMARY:Best of Orgel rockt
DESCRIPTION:Bei "Best of Orgel rockt" spielt Patrick Gläser Highlights aus 16 Jahren Orgel rockt · Rock, Pop und Filmmusik auf der Kirchenorgel. \n\nhttps://eventfrog.at/de/p/konzerte/pop-rock/best-of-orgel-rockt-7448415036551232049.html
LOCATION:St. Ansgar Kirche 
GEO:52.173220;10.559570
URL:https://eventfrog.at/de/p/konzerte/pop-rock/best-of-orgel-rockt-7448415036551232049.html
END:VEVENT
END:VCALENDAR