BEGIN:VCALENDAR
VERSION:2.0
PRODID:EVENTFROG//EVENT//ICAL
BEGIN:VEVENT
UID:20260421T173032Z-7448371609520309483@eventfrog.at
DTSTAMP:20260421T173032Z
DTSTART:20260925T160000Z
DTEND:20260926T213000Z
SUMMARY:Wernigeröder Wiesngaudi
DESCRIPTION:Am 25. und 26. September 2026 lädt die Wernigeröder Wiesngaudi mit Party und Live-Musik auf dem Ochsenteich ein.\n\nhttps://eventfrog.at/de/p/partys/mottoparty/wernigeroeder-wiesngaudi-7448371609520309483.html
LOCATION:Ochsenteich
GEO:51.836278;10.783063
URL:https://eventfrog.at/de/p/partys/mottoparty/wernigeroeder-wiesngaudi-7448371609520309483.html
END:VEVENT
END:VCALENDAR