BEGIN:VCALENDAR
VERSION:2.0
PRODID:EVENTFROG//EVENT//ICAL
BEGIN:VEVENT
UID:20260424T072544Z-7448312093911062486@eventfrog.at
DTSTAMP:20260424T072544Z
DTSTART:20260509T150000Z
DTEND:20260509T163000Z
SUMMARY:Backstage - Saggio 2026
DESCRIPTION:Spettacolo di fine anno della scuola di danza "Backstage" 2026\n\nhttps://eventfrog.at/en/p/musicals-shows/dance-show/backstage-saggio-2026-7448312093911062486.html
LOCATION:Oratorio Balerna
GEO:45.846689;9.007108
URL:https://eventfrog.at/en/p/musicals-shows/dance-show/backstage-saggio-2026-7448312093911062486.html
END:VEVENT
END:VCALENDAR