BEGIN:VCALENDAR
VERSION:2.0
PRODID:EVENTFROG//EVENT//ICAL
BEGIN:VEVENT
UID:20260419T161205Z-7448263913089566203@eventfrog.at
DTSTAMP:20260419T161205Z
DTSTART:20260504T070000Z
DTEND:20260731T140000Z
SUMMARY:Projektmanagement Grundlagen
DESCRIPTION:Sie erlernen die Grundlagen des Projektmanagements und erhalten das Basiszertifikat Projektmanagement. Ideal für Einsteiger und Personen, die ihre Kompetenzen ausbauen möchten.\n\nhttps://eventfrog.at/de/p/kurse-seminare/berufliche-bildung/projektmanagement-grundlagen-7448263913089566203.html
LOCATION:E-Learning
URL:https://eventfrog.at/de/p/kurse-seminare/berufliche-bildung/projektmanagement-grundlagen-7448263913089566203.html
END:VEVENT
END:VCALENDAR