BEGIN:VCALENDAR
VERSION:2.0
PRODID:EVENTFROG//EVENT//ICAL
BEGIN:VEVENT
UID:20260421T161530Z-7448114700972216833@eventfrog.at
DTSTAMP:20260421T161530Z
DTSTART:20260527T083000Z
DTEND:20260527T103000Z
SUMMARY:Barrierefreie Social Media: Praxis für mehr Reichweite
DESCRIPTION:Anne-Mieke Bovelett zeigt praxisnah, wie barrierefreie Social-Media-Inhalte Barrieren abbauen und die Reichweite steigern.\n\nhttps://eventfrog.at/de/p/fuehrungen-vortraege/vortrag/barrierefreie-social-media-praxis-fuer-mehr-reichweite-7448114700972216833.html
LOCATION:Hybrid - Online oder im Kap Europa, Frankfurt
URL:https://eventfrog.at/de/p/fuehrungen-vortraege/vortrag/barrierefreie-social-media-praxis-fuer-mehr-reichweite-7448114700972216833.html
END:VEVENT
END:VCALENDAR