BEGIN:VCALENDAR
VERSION:2.0
PRODID:EVENTFROG//EVENT//ICAL
BEGIN:VEVENT
UID:20260424T015210Z-7448027913901850512@eventfrog.at
DTSTAMP:20260424T015210Z
DTSTART:20260516T080000Z
DTEND:20260516T120000Z
SUMMARY:Großer Secondhand-Trachtenmarkt in Benediktbeuern
DESCRIPTION:Über 2.000 Secondhand-Trachten wie Dirndl und Lederhosen warten auf 105 m² beim Markt in Benediktbeuern.\n\nhttps://eventfrog.at/de/p/maerkte/second-hand/grosser-secondhand-trachtenmarkt-in-benediktbeuern-7448027913901850512.html
LOCATION:Kreuzgang im Kloster Benediktbeuern
GEO:47.707560;11.399068
URL:https://eventfrog.at/de/p/maerkte/second-hand/grosser-secondhand-trachtenmarkt-in-benediktbeuern-7448027913901850512.html
END:VEVENT
END:VCALENDAR