BEGIN:VCALENDAR
VERSION:2.0
PRODID:EVENTFROG//EVENT//ICAL
BEGIN:VEVENT
UID:20260422T204309Z-7448027450901056189@eventfrog.at
DTSTAMP:20260422T204309Z
DTSTART:20260529T173000Z
SUMMARY:Zirkus Chnopf - UFE
DESCRIPTION:UFE ist die neuste Produktion vom Zirkus Chnopf mit 5 Profis und 5 Jugendlichen und jungen Artist:innen zwischen 14 und 23 - unter freiem Himmel.\n\nhttps://eventfrog.at/de/p/musicals-shows/zirkus/zirkus-chnopf-ufe-7448027450901056189.html
LOCATION:Rote Fabrik, Backstein, Theater HORA
GEO:47.343458;8.536479
URL:https://eventfrog.at/de/p/musicals-shows/zirkus/zirkus-chnopf-ufe-7448027450901056189.html
END:VEVENT
END:VCALENDAR