BEGIN:VCALENDAR
VERSION:2.0
PRODID:EVENTFROG//EVENT//ICAL
BEGIN:VEVENT
UID:20260425T210550Z-7448024964639251666@eventfrog.at
DTSTAMP:20260425T210550Z
DTSTART:20260520T160000Z
SUMMARY:Was bleibt von uns? – mit Wiborada-Special
DESCRIPTION:Das Komiktheater zu Gast im Kulturmuseum St.Gallen – mit Wiborada-Special.\n\nhttps://eventfrog.at/de/p/theater-buehne/theater/was-bleibt-von-uns-mit-wiborada-special-7448024964639251666.html
LOCATION:Kulturmuseum St.Gallen
GEO:47.428650;9.382990
URL:https://eventfrog.at/de/p/theater-buehne/theater/was-bleibt-von-uns-mit-wiborada-special-7448024964639251666.html
END:VEVENT
END:VCALENDAR