BEGIN:VCALENDAR
VERSION:2.0
PRODID:EVENTFROG//EVENT//ICAL
BEGIN:VEVENT
UID:20260425T122701Z-7448011729059994402@eventfrog.at
DTSTAMP:20260425T122701Z
DTSTART:20260426T080000Z
DTEND:20260426T120000Z
SUMMARY:Country Brunch mit KIER
DESCRIPTION:Erleben Sie KIERs authentischen y'alternative Sound akustisch zum reichhaltigen All you can eat Brunch.\n\nhttps://eventfrog.at/de/p/essen-trinken/country-brunch-mit-kier-7448011729059994402.html
LOCATION:Restaurant Kreuz
GEO:47.191620;7.790810
URL:https://eventfrog.at/de/p/essen-trinken/country-brunch-mit-kier-7448011729059994402.html
END:VEVENT
END:VCALENDAR