BEGIN:VCALENDAR
VERSION:2.0
PRODID:EVENTFROG//EVENT//ICAL
BEGIN:VEVENT
UID:20260422T130812Z-7447962107516056959@eventfrog.at
DTSTAMP:20260422T130812Z
DTSTART:20260502T100000Z
DTEND:20260502T160000Z
SUMMARY:José Montealegre: Drastic Measures
DESCRIPTION:José Montealegres zweite Einzelausstellung in der Galerie Thomas Schulte.\n\nhttps://eventfrog.at/de/p/kunst-ausstellungen/ausstellung/jose-montealegre-drastic-measures-7447962107516056959.html
LOCATION:Galerie Thomas Schulte
GEO:52.500187;13.363156
URL:https://eventfrog.at/de/p/kunst-ausstellungen/ausstellung/jose-montealegre-drastic-measures-7447962107516056959.html
END:VEVENT
END:VCALENDAR