BEGIN:VCALENDAR
VERSION:2.0
PRODID:EVENTFROG//EVENT//ICAL
BEGIN:VEVENT
UID:20260424T072507Z-7447953185359010337@eventfrog.at
DTSTAMP:20260424T072507Z
DTSTART:20260502T160000Z
DTEND:20260502T210000Z
SUMMARY:Wine and Dine mit exklusiven Weinen aus Kroatien
DESCRIPTION:Die Winzer von Markus Fine Wines stellen fünf kroatische Weine im Veritas vor, begleitet von einem traditionellen kroatischen Menü.\n\nhttps://eventfrog.at/de/p/essen-trinken/wine-and-dine-mit-exklusiven-weinen-aus-kroatien-7447953185359010337.html
LOCATION:Veritas WeinLounge & Restaurant
GEO:47.273952;8.340577
URL:https://eventfrog.at/de/p/essen-trinken/wine-and-dine-mit-exklusiven-weinen-aus-kroatien-7447953185359010337.html
END:VEVENT
END:VCALENDAR