BEGIN:VCALENDAR
VERSION:2.0
PRODID:EVENTFROG//EVENT//ICAL
BEGIN:VEVENT
UID:20260424T105040Z-7447921552270603602@eventfrog.at
DTSTAMP:20260424T105040Z
DTSTART:20261008T160000Z
DTEND:20261008T190000Z
SUMMARY:Tesla Owners Switzerland - Community MeetUp Region Zürich
DESCRIPTION:Treffpunkt im Restaurant für Tesla Clubmitglieder und Elektromobilitäts-Interessierte mit Beisammensein, Referaten und News jeden zweiten Donnerstag.\n\nhttps://eventfrog.at/de/p/essen-trinken/tesla-owners-switzerland-community-meetup-region-zuerich-7447921552270603602.html
LOCATION:Restaurant "im Speck"
GEO:47.375475;8.761615
URL:https://eventfrog.at/de/p/essen-trinken/tesla-owners-switzerland-community-meetup-region-zuerich-7447921552270603602.html
END:VEVENT
END:VCALENDAR