BEGIN:VCALENDAR
VERSION:2.0
PRODID:EVENTFROG//EVENT//ICAL
BEGIN:VEVENT
UID:20260425T014130Z-7447765713471697699@eventfrog.at
DTSTAMP:20260425T014130Z
DTSTART:20260425T170000Z
DTEND:20260425T183000Z
SUMMARY:Frühlingskonzert Gemischterchor Bella Voce
DESCRIPTION:Frühlingskonzert Gemischterchor Bella Voce\n\nhttps://eventfrog.at/de/p/konzerte/fruehlingskonzert-gemischterchor-bella-voce-7447765713471697699.html
LOCATION:evangelische Kirche Gachnang
GEO:47.537859;8.851035
URL:https://eventfrog.at/de/p/konzerte/fruehlingskonzert-gemischterchor-bella-voce-7447765713471697699.html
END:VEVENT
END:VCALENDAR