BEGIN:VCALENDAR
VERSION:2.0
PRODID:EVENTFROG//EVENT//ICAL
BEGIN:VEVENT
UID:20260421T042856Z-7447763140119410717@eventfrog.at
DTSTAMP:20260421T042856Z
DTSTART:20260613T120000Z
DTEND:20260614T150000Z
SUMMARY:Workshop Songwriting Complete
DESCRIPTION:Workshop mit Masen Abou-Dakn am 13. & 14. Juni 2026 für kreatives Songwriting und Songentwicklung mit individuellem Feedback.\n\nhttps://eventfrog.at/de/p/kurse-seminare/coaching/workshop-songwriting-complete-7447763140119410717.html
LOCATION:Kulturzentrum Trudering
GEO:48.119331;11.670593
URL:https://eventfrog.at/de/p/kurse-seminare/coaching/workshop-songwriting-complete-7447763140119410717.html
END:VEVENT
END:VCALENDAR