BEGIN:VCALENDAR
VERSION:2.0
PRODID:EVENTFROG//EVENT//ICAL
BEGIN:VEVENT
UID:20260424T090233Z-7447761265156474589@eventfrog.at
DTSTAMP:20260424T090233Z
DTSTART:20261206T091500Z
DTEND:20261206T100000Z
SUMMARY:Geschichten-Herbst - Theater Bilitz
DESCRIPTION:Geschichten-Herbst - Theater Bilitz\n\nhttps://eventfrog.at/de/p/theater-buehne/geschichten-herbst-theater-bilitz-7447761265156474589.html
LOCATION:Theaterhaus Thurgau
GEO:47.567580;9.103460
URL:https://eventfrog.at/de/p/theater-buehne/geschichten-herbst-theater-bilitz-7447761265156474589.html
END:VEVENT
END:VCALENDAR