BEGIN:VCALENDAR
VERSION:2.0
PRODID:EVENTFROG//EVENT//ICAL
BEGIN:VEVENT
UID:20260424T090235Z-7447761264640575194@eventfrog.at
DTSTAMP:20260424T090235Z
DTSTART:20260906T081500Z
DTEND:20260906T090000Z
SUMMARY:Geschichten-Herbst - Theater Bilitz
DESCRIPTION:Geschichten-Herbst - Theater Bilitz\n\nhttps://eventfrog.at/de/p/theater-buehne/geschichten-herbst-theater-bilitz-7447761264640575194.html
LOCATION:Theaterhaus Thurgau
GEO:47.567580;9.103460
URL:https://eventfrog.at/de/p/theater-buehne/geschichten-herbst-theater-bilitz-7447761264640575194.html
END:VEVENT
END:VCALENDAR