BEGIN:VCALENDAR
VERSION:2.0
PRODID:EVENTFROG//EVENT//ICAL
BEGIN:VEVENT
UID:20260424T083312Z-7447645341111867956@eventfrog.at
DTSTAMP:20260424T083312Z
DTSTART:20260613T090000Z
DTEND:20260613T160000Z
SUMMARY:De Bailly à Zaric. Collection d’art Ville de Lausanne
DESCRIPTION:L'exposition réunit plus de quarante œuvres emblématiques de la collection d'art de Lausanne, témoignant de près d'un siècle d'art local.\n\nhttps://eventfrog.at/fr/p/art-expositions/exposition/de-bailly-a-zaric-collection-dart-ville-de-lausanne-7447645341111867956.html
LOCATION:Musée historique de Lausanne
GEO:46.522100;6.634880
URL:https://eventfrog.at/fr/p/art-expositions/exposition/de-bailly-a-zaric-collection-dart-ville-de-lausanne-7447645341111867956.html
END:VEVENT
END:VCALENDAR