BEGIN:VCALENDAR
VERSION:2.0
PRODID:EVENTFROG//EVENT//ICAL
BEGIN:VEVENT
UID:20260424T235756Z-7447631756029599933@eventfrog.at
DTSTAMP:20260424T235756Z
DTSTART:20260503T080000Z
DTEND:20260503T123000Z
SUMMARY:Porsche Pole Position Brunch
DESCRIPTION:Genießen Sie einen faszinierenden Ausblick auf die Porsche Rundstrecke und entdecken Sie die kulinarische „Erlebnisstrecke“ der Porsche Gastronomie.\n\nhttps://eventfrog.at/de/p/essen-trinken/porsche-pole-position-brunch-7447631756029599933.html
LOCATION:Porsche Experience Center Leipzig
GEO:51.412098;12.295481
URL:https://eventfrog.at/de/p/essen-trinken/porsche-pole-position-brunch-7447631756029599933.html
END:VEVENT
END:VCALENDAR